BEGIN:VCALENDAR
VERSION:2.0
PRODID:DPCALENDAR
CALSCALE:GREGORIAN
X-WR-TIMEZONE:UTC
BEGIN:VEVENT
DTSTART;TZID=UTC:20221218T090000
DTEND;TZID=UTC:20221218T120000
UID:BD91F2B0-62F4-4E4E-B8E6-3719A825E872
SUMMARY:Sortie VTT
CREATED:20221216T115646Z
DTSTAMP:20221216T115646Z
URL:https://plougastelsportsnature.fr/index.php/features/agenda/sortie-vtt
DESCRIPTION:RDV à  9h au local\NCircuit spécial avec passage par le Costour, La vallée du Cam, Keroumen, puis Le passage et enfin le dessert au 38ème kilomètre\NLien vers le fichier OpenRunnner à télécharger\N \N 
X-ALT-DESC;FMTTYPE=text/html:<p>RDV à  9h au local</p><p>Circuit spécial avec passage par le Costour, La vallée du Cam, Keroumen, puis Le passage et enfin le dessert au 38ème kilomètre</p><p>Lien vers le fichier <a href="https://www.openrunner.com/private-route-details/cd1a610a3c78ad751de71d9947d276b4" target="_blank" rel="noopener">OpenRunnner </a>à télécharger</p><p> </p><p> </p>
LAST-MODIFIED:20221219T200522Z
SEQUENCE:288516
LOCATION:Rue Mathurin Thomas 48\, 29470 Plougastel-Daoulas\, Bretagne\, France
GEO:48.37078120;-4.36980190
X-LOCATION-DISPLAYNAME:Club House
X-ACCESS:1
X-HITS:215
X-COLOR:cf4540
X-IMAGE-FULL:https://plougastelsportsnature.fr/images/articles/sortie_vtt_1.jpg
X-IMAGE-INTRO:https://plougastelsportsnature.fr/images/articles/sortie_vtt_1.jpg
X-SHOW-END-TIME:1
END:VEVENT
BEGIN:VEVENT
DTSTART;TZID=UTC:20230319T073000
DTEND;TZID=UTC:20230319T123000
UID:BB7DF044-E3EE-4908-8B1F-6DDE72F2C970
SUMMARY:Rando VTT Guipavas
CREATED:20230116T144748Z
DTSTAMP:20230116T144748Z
URL:https://guipvtt.wixsite.com/guipvtt/randovtt-koatanelorn
DESCRIPTION:GUIPAVAS ALG organise sa rando VTT "La Koat an Elorn"\NDépart 7H30 au 46, rue du Commandant Challe, à Guipavas.
X-ALT-DESC;FMTTYPE=text/html:<p>GUIPAVAS ALG organise sa rando VTT "<strong>La Koat an Elorn</strong>"</p><p>Départ 7H30 au 46, rue du Commandant Challe, à Guipavas.</p>
LAST-MODIFIED:20230305T164148Z
SEQUENCE:4154040
LOCATION:Rue de Paris\, 29490 Guipavas\, Bretagne\, France
GEO:48.43551215;-4.40031531
X-LOCATION-DISPLAYNAME:France, Bretagne, Finistère, Guipavas, 29490, Rue de Paris
X-ACCESS:1
X-HITS:24
X-COLOR:cf4540
X-IMAGE-FULL:https://plougastelsportsnature.fr/images/articles/rando_vtt_guipavas_2022.jpg
X-IMAGE-INTRO:https://plougastelsportsnature.fr/images/articles/rando_vtt_guipavas_2022.jpg
X-IMAGE-INTRO-CAPTION:Circuit Guipavas de 2022
X-SHOW-END-TIME:1
END:VEVENT
BEGIN:VEVENT
DTSTART;VALUE=DATE:20230402
DTEND;VALUE=DATE:20230403
UID:897FAEEB-6DED-4028-96FD-67A5450EE3AA
SUMMARY:Rando VTT & Gravel FSGT sur Plougastel
CREATED:20221216T074621Z
DTSTAMP:20221216T074621Z
URL:https://plougastelsportsnature.fr/index.php/features/agenda/rando-vtt-fsgt-sur-plougastel
DESCRIPTION:Rando VTT FSGT & Rando Gravel sur Plougastel au départ de la salle de l'Avel Sport\NDescription de la rando: https://www.plougastelsportsnature.fr/index.php/actualite/actualite-vtt/rando-vtt-gravel-2023\NCompte rendu de la rando aves les photos: https://www.plougastelsportsnature.fr/index.php/actualite/actualite-vtt/rando-psn-vtt-gravel-plaisir-intense-ou-depassement-de-soi\N \N \N 
X-ALT-DESC;FMTTYPE=text/html:<p><strong>Rando VTT</strong> FSGT &amp; <strong>Rando Gravel </strong>sur Plougastel au départ de la salle de l'Avel Sport</p><p>Description de la rando: <a href="index.php/actualite/actualite-vtt/rando-vtt-gravel-2023">https://www.plougastelsportsnature.fr/index.php/actualite/actualite-vtt/rando-vtt-gravel-2023</a></p><p>Compte rendu de la rando aves les photos: <a href="index.php/actualite/actualite-vtt/rando-psn-vtt-gravel-plaisir-intense-ou-depassement-de-soi">https://www.plougastelsportsnature.fr/index.php/actualite/actualite-vtt/rando-psn-vtt-gravel-plaisir-intense-ou-depassement-de-soi</a></p><p> </p><p> </p><p> </p>
LAST-MODIFIED:20230407T104455Z
SEQUENCE:9687514
LOCATION:Le Vern\, 29470 Plougastel-Daoulas\, Bretagne\, France
GEO:48.36975585;-4.36022056
X-LOCATION-DISPLAYNAME:Avel Sport
X-ACCESS:1
X-HITS:1468
X-COLOR:cf4540
X-IMAGE-FULL:https://plougastelsportsnature.fr/images/articles/rando_vtt_plougastel_2022.jpg
X-IMAGE-INTRO:https://plougastelsportsnature.fr/images/articles/affiche_rando_vttgravel_2023_article.jpg
X-SHOW-END-TIME:1
END:VEVENT
BEGIN:VEVENT
DTSTART;TZID=UTC:20230514T070000
DTEND;TZID=UTC:20230514T120000
UID:D68BC893-54EA-4088-8225-6B31A17370D0
SUMMARY:Rando VTT - Campfrout VTT Nature
CREATED:20230116T145635Z
DTSTAMP:20230116T145635Z
URL:https://camfroutvttnature.fr/crn-presentation/
LAST-MODIFIED:20230116T151441Z
SEQUENCE:1086
LOCATION:Place de l'Église\, 29460 Hôpital-Camfrout\, Bretagne\, France
GEO:48.32825030;-4.24221410
X-LOCATION-DISPLAYNAME:France, Bretagne, Finistère, Hôpital-Camfrout, 29460
X-ACCESS:1
X-HITS:1
X-COLOR:cf4540
X-IMAGE-FULL:https://plougastelsportsnature.fr/images/articles/campfrout_vtt_nature.jpg
X-IMAGE-INTRO:https://plougastelsportsnature.fr/images/articles/campfrout_vtt_nature.jpg
X-IMAGE-INTRO-CAPTION:Affiche 2022 de la CRN
X-SHOW-END-TIME:1
END:VEVENT
BEGIN:VEVENT
DTSTART;TZID=UTC:20230528T073000
DTEND;TZID=UTC:20230528T123000
UID:917A49F2-89DF-4BEF-ADDE-21B0D49A36B3
SUMMARY:Rando VTT - 32ème Ronde des Crêtes à Sizun
CREATED:20230116T150714Z
DTSTAMP:20230116T150714Z
URL:https://plougastelsportsnature.fr/index.php/features/agenda/rando-vtt-32eme-ronde-des-cretes-a-sizun
DESCRIPTION:Rondes crêtes à Sizun le 28 maiVTT : 23 - 35 - 42 - 60 kmVTT / VTTAE: 5€Départ du Stade de foot du Gollen à SIZUN à 07h30
X-ALT-DESC;FMTTYPE=text/html:<p>Rondes crêtes à Sizun le 28 mai<br />VTT : 23 - 35 - 42 - 60 km<br />VTT / VTTAE: 5€<br />Départ du Stade de foot du Gollen à SIZUN à 07h30<br /><br /></p>
LAST-MODIFIED:20230116T151501Z
SEQUENCE:467
LOCATION:29450 Sizun\, Bretagne\, France
GEO:48.39982060;-4.07628980
X-LOCATION-DISPLAYNAME:France, Bretagne, Finistère, Sizun, 29450
X-ACCESS:1
X-HITS:350
X-COLOR:cf4540
X-IMAGE-FULL:https://plougastelsportsnature.fr/images/articles/ronde_des_cretes.jpg
X-IMAGE-INTRO:https://plougastelsportsnature.fr/images/articles/ronde_des_cretes.jpg
X-SHOW-END-TIME:1
END:VEVENT
BEGIN:VEVENT
DTSTART;VALUE=DATE:20230617
DTEND;VALUE=DATE:20230619
UID:F2BE7636-210B-45FA-A7D8-7AFF52072796
SUMMARY:Cap Nore Carcassonne
CREATED:20221216T075006Z
DTSTAMP:20221216T075006Z
URL:https://plougastelsportsnature.fr/index.php/features/agenda/cap-nore-carcassonne
DESCRIPTION:Le Raid de la CAP NORE à Carcassonne est au programme de nos défis de l'année 2023\N\NL'ouverture des inscriptions démarre le vendredi 16/12 à midi\NVoici le lien
X-ALT-DESC;FMTTYPE=text/html:<p>Le Raid de la CAP NORE à Carcassonne est au programme de nos défis de l'année 2023</p><hr id="system-readmore"><p>L'ouverture des inscriptions démarre le vendredi 16/12 à midi</p><p><a href="https://lvo-inscription.com/capnore2023/select_competition" target="_blank" rel="noopener">Voici le lien</a></p>
LAST-MODIFIED:20221221T132925Z
SEQUENCE:452359
X-ACCESS:1
X-HITS:379
X-COLOR:cf4540
X-IMAGE-FULL:https://plougastelsportsnature.fr/images/articles/cap_nore_2022.jpg
X-IMAGE-INTRO:https://plougastelsportsnature.fr/images/articles/cap_nore_2022.jpg
X-SHOW-END-TIME:1
END:VEVENT
BEGIN:VEVENT
DTSTART;TZID=UTC:20230827T073000
DTEND;TZID=UTC:20230827T113000
UID:C4CCAA35-A242-4E2B-98A6-C3EA12ECACA0
SUMMARY:Rando U VTT - Presqu’île de Crozon
CREATED:20230116T151333Z
DTSTAMP:20230116T151333Z
URL:https://www.facebook.com/vttcrozon/
DESCRIPTION:Le VTT Presqu’île de Crozon organise sa 25ème RANDO U le 28 AOUT à partir du site de l’APAS Pointe de Pen Hir à Camaret-sur-Mer\NRando U - Circuits VTT de 20, 30, 40, 50, 60,100 km\NTrois itinéraires de marche de 7, 15 et 20km\NDéparts à partir de 7h30 du parking de l'APAS à la pointe de Pen-Hir à Camaret.
X-ALT-DESC;FMTTYPE=text/html:<p>Le VTT Presqu’île de Crozon organise sa 25ème RANDO U le 28 AOUT à partir du site de l’APAS Pointe de Pen Hir à Camaret-sur-Mer</p><p>Rando U - Circuits VTT de 20, 30, 40, 50, 60,100 km</p><p>Trois itinéraires de marche de 7, 15 et 20km</p><p>Départs à partir de 7h30 du parking de l'APAS à la pointe de Pen-Hir à Camaret.</p>
LAST-MODIFIED:20230116T151514Z
SEQUENCE:101
X-ACCESS:1
X-HITS:2
X-COLOR:cf4540
X-IMAGE-FULL:https://plougastelsportsnature.fr/images/articles/rando_u_vtt_camaret.jpg
X-IMAGE-INTRO:https://plougastelsportsnature.fr/images/articles/rando_u_vtt_camaret.jpg
X-SHOW-END-TIME:1
END:VEVENT
BEGIN:VEVENT
DTSTART;TZID=UTC:20231008T073000
DTEND;TZID=UTC:20231008T123000
UID:808AB919-C55A-495E-94D5-BC6BA48275E1
SUMMARY:Rando VTT La Roche Maurice
CREATED:20230116T152122Z
DTSTAMP:20230116T152122Z
URL:https://www.facebook.com/larochevtt/
DESCRIPTION:Rando VTT à La Roche-Maurice\NMarche et rando cyclos également
X-ALT-DESC;FMTTYPE=text/html:<p>Rando VTT à La Roche-Maurice</p><p>Marche et rando cyclos également</p>
LOCATION:Rue du Morbic\, 29800 La Roche-Maurice\, Bretagne\, France
GEO:48.47194550;-4.20355050
X-LOCATION-DISPLAYNAME:France, Bretagne, Finistère, 29800
X-ACCESS:1
X-HITS:0
X-COLOR:cf4540
X-IMAGE-FULL:https://plougastelsportsnature.fr/images/articles/rando_la_roche_maurice.jpg
X-IMAGE-INTRO:https://plougastelsportsnature.fr/images/articles/rando_la_roche_maurice.jpg
X-SHOW-END-TIME:1
END:VEVENT
BEGIN:VEVENT
DTSTART;TZID=UTC:20231119T080000
DTEND;TZID=UTC:20231119T130000
UID:9C8356F7-1767-4EEB-ABF7-676823399C66
SUMMARY:Rando VTT - Salon du Cycles du Relecq-Kerhuon
CREATED:20230116T153254Z
DTSTAMP:20230116T153254Z
URL:http://www.gck.fr/
DESCRIPTION:Départ de l'Astrolabe\NRandos VTT, cyclos, VAE
X-ALT-DESC;FMTTYPE=text/html:<p>Départ de l'Astrolabe</p><p>Randos VTT, cyclos, VAE</p>
LOCATION:Place de la Libération\, 29480 Le Relecq-Kerhuon\, Bretagne\, France
GEO:48.40755140;-4.39655730
X-LOCATION-DISPLAYNAME:France, Bretagne, Finistère, 29480
X-ACCESS:1
X-HITS:0
X-COLOR:cf4540
X-IMAGE-FULL:https://plougastelsportsnature.fr/images/articles/rando_kerhuon.jpg
X-IMAGE-INTRO:https://plougastelsportsnature.fr/images/articles/rando_kerhuon.jpg
X-SHOW-END-TIME:1
END:VEVENT
BEGIN:VEVENT
DTSTART;VALUE=DATE:20240331
DTEND;VALUE=DATE:20240401
UID:B363568D-73E9-48A3-A6A7-9783BBD4AB47
SUMMARY:Rando VTT & Gravel FSGT sur Plougastel
CREATED:20221216T074621Z
DTSTAMP:20221216T074621Z
URL:https://plougastelsportsnature.fr/index.php/features/agenda/rando-vtt-fsgt-sur-plougastel-2
DESCRIPTION:Rando VTT FSGT & Rando Gravel sur Plougastel au départ de la salle de l'Avel Sport\NDescription de la rando 2024\NCompte rendu de la rando 2023 avec les photos\N \N \N 
X-ALT-DESC;FMTTYPE=text/html:<p><strong>Rando VTT</strong> FSGT &amp; <strong>Rando Gravel </strong>sur Plougastel au départ de la salle de l'Avel Sport</p><p><a href="https://plougastelsportsnature.fr/index.php/actualite/actualite-vtt/rando-vtt-gravel-2024" target="_blank" rel="noopener">Description de la rando 2024</a></p><p><a href="index.php/actualite/actualite-vtt/rando-psn-vtt-gravel-plaisir-intense-ou-depassement-de-soi" target="_blank" rel="noopener">Compte rendu de la rando 2023 avec les photos</a></p><p> </p><p> </p><p> </p>
LAST-MODIFIED:20240106T141756Z
SEQUENCE:33373895
LOCATION:Le Vern\, 29470 Plougastel-Daoulas\, Bretagne\, France
GEO:48.36975585;-4.36022056
X-LOCATION-DISPLAYNAME:Avel Sport
X-ACCESS:1
X-HITS:389
X-COLOR:cf4540
X-IMAGE-FULL:https://plougastelsportsnature.fr/images/articles/affiche_rando_vttgravel_2024_article.jpg
X-IMAGE-INTRO:https://plougastelsportsnature.fr/images/articles/affiche_rando_vttgravel_2024_article.jpg
X-SHOW-END-TIME:1
END:VEVENT
BEGIN:VEVENT
DTSTART;VALUE=DATE:20240508
DTEND;VALUE=DATE:20240513
UID:6CE1E49B-A23B-483E-96D3-3DFD6D332C67
SUMMARY:Maxi Verte 2024
CREATED:20231211T145251Z
DTSTAMP:20231211T145251Z
URL:https://www.cahorsvalleedulot.com/sit/la-maxi-verte-2024/
DESCRIPTION:Réservez dès maintenant votre W.E. de l'Ascencion 2024. Au départ du coeur de la Vallée du Lot et du Vignoble, en VTT, VTTAE, ces 5 journées vont vous conduire à la découverte de nos superbes paysages et villages médiévaux par nos plus beaux chemins et sentiers pittoresques.Le PSN ne sera finalement pas présent sur cette rando, il ira sur l'Ariégeoise.\NLe détail de la rando\N 
X-ALT-DESC;FMTTYPE=text/html:<p>Réservez dès maintenant votre W.E. de l'Ascencion 2024. Au départ du coeur de la Vallée du Lot et du Vignoble, en VTT, VTTAE, ces 5 journées vont vous conduire à la découverte de nos superbes paysages et villages médiévaux par nos plus beaux chemins et sentiers pittoresques.<br />Le PSN ne sera finalement pas présent sur cette rando, il ira sur l'Ariégeoise.</p><p><a href="index.php/actualite/actualite-vtt/maxi-verte-2024" target="_blank" rel="noopener">Le détail de la rando</a></p><p> </p>
LAST-MODIFIED:20240208T073424Z
SEQUENCE:5071293
LOCATION:Place du Rampeau\, 46700 Puy-l'Évêque\, Occitanie\, France
GEO:44.50365030;1.13906260
X-LOCATION-DISPLAYNAME:Puy-l'Évêque
X-ACCESS:1
X-HITS:0
X-COLOR:cf4540
X-IMAGE-FULL:https://plougastelsportsnature.fr/images/articles/maxi-verte-2024.jpg
X-IMAGE-INTRO:https://plougastelsportsnature.fr/images/articles/maxi-verte-2024.jpg
X-SHOW-END-TIME:1
END:VEVENT
BEGIN:VEVENT
DTSTART;TZID=UTC:20240630T070000
DTEND;TZID=UTC:20240630T180000
UID:0006D23F-D2F5-47BA-983B-B500E89D631E
SUMMARY:Ariégeoise 2024
CREATED:20240208T073310Z
DTSTAMP:20240208T073310Z
URL:https://www.plougastelsportsnature.fr/index.php/actualite/actualite-vtt/ariegeoise-2024
DESCRIPTION:L'ariégeoise VTT, c'est la sortie que le PSN prépare pour juin 2024. La constitution du groupe de motivés pour la découverte de cette région exceptionnelle est en cours.\NLe teaser YouTube: https://youtu.be/2w1tK6nW7g0\N👉 Inscription: c'est par ici
X-ALT-DESC;FMTTYPE=text/html:<p>L'ariégeoise VTT, c'est la sortie que le PSN prépare pour juin 2024. La constitution du groupe de motivés pour la découverte de cette région exceptionnelle est en cours.</p><p>Le teaser YouTube: <a class="ytp-share-panel-link ytp-no-contextmenu" href="https://youtu.be/2w1tK6nW7g0" target="_blank" rel="noopener" aria-label="Partager le lien">https://youtu.be/2w1tK6nW7g0</a></p><p>👉 Inscription: <a href="https://inscription.cyclosport-ariegeoise.com/fr/" target="_blank" rel="noopener">c'est par ici</a></p>
LOCATION:Rue Général de Gaulle\, 09110 Ax-les-Thermes\, Occitanie\, France
GEO:42.71935970;1.83797650
X-LOCATION-DISPLAYNAME:Ax-les-Thermes
X-ACCESS:1
X-HITS:0
X-COLOR:cf4540
X-IMAGE-INTRO:https://plougastelsportsnature.fr/images/articles/ariegeoise_01.png
X-SHOW-END-TIME:1
END:VEVENT
BEGIN:VEVENT
DTSTART;TZID=UTC:20240706T080000
DTEND;TZID=UTC:20240706T180000
UID:16C8C04A-E21A-4B79-B4C5-3BD2D5C9EB90
SUMMARY:Brestoâ Gravel
CREATED:20240117T090826Z
DTSTAMP:20240117T090826Z
URL:https://camfroutbikefestibal2022.wordpress.com/gravel-trans-rade/
DESCRIPTION:150km de parcours Gravel autour de la rade de Brest avec une traversée en bateau\NEn attente de la sortie officielle dans le calendrier FSGT
X-ALT-DESC;FMTTYPE=text/html:<p id="vous-en-reviez-nous-l-avons-fait-venez-decouvrir-la-plus-belle-rade-de-france-et-en-faire-le-tour-150km-de-parcours-gravel-avec-une-traversee-en-bateau-ne-restez-pas-en-rade-inscrivez-vous-et-finissez-au-rade-avec-un-godet" class="wp-block-heading has-text-align-center">150km de parcours Gravel autour de la rade de Brest avec une traversée en bateau</p><p>En attente de la sortie officielle dans le calendrier FSGT</p>
LOCATION:Boulevard Pennec\, 29460 Hôpital-Camfrout\, Bretagne\, France
GEO:48.32142640;-4.23666290
X-LOCATION-DISPLAYNAME:Hôpital-Camfrout
X-ACCESS:1
X-HITS:0
X-COLOR:cf4540
X-IMAGE-FULL:https://plougastelsportsnature.fr/images/articles/brestoa_gravel_2024.JPG
X-IMAGE-INTRO:https://plougastelsportsnature.fr/images/articles/brestoa_gravel_2024.JPG
X-SHOW-END-TIME:1
END:VEVENT
BEGIN:VEVENT
DTSTART;VALUE=DATE:20250330
DTEND;VALUE=DATE:20250331
UID:0CDED884-D1BF-4338-852D-B1ECFCDE70AA
SUMMARY:Rando VTT & Gravel FSGT sur Plougastel
CREATED:20221216T074621Z
DTSTAMP:20221216T074621Z
URL:https://plougastelsportsnature.fr/index.php/features/agenda/rando-vtt-fsgt-sur-plougastel-3
DESCRIPTION:Rando VTT FSGT & Rando Gravel sur Plougastel au départ de la salle de l'Avel Sport\NRDV le 30 mars !\NAfter Movie de la rando 2024
X-ALT-DESC;FMTTYPE=text/html:<p><strong>Rando VTT</strong> FSGT &amp; <strong>Rando Gravel </strong>sur Plougastel au départ de la salle de l'Avel Sport</p><p>RDV le 30 mars !</p><p><a href="index.php/actualite/actualite-vtt/after-movie-de-la-rando-vtt-et-gravel-psn-2024" target="_blank" rel="noopener">After Movie de la rando 2024</a></p>
LAST-MODIFIED:20241204T092623Z
SEQUENCE:62127602
LOCATION:Le Vern\, 29470 Plougastel-Daoulas\, Bretagne\, France
GEO:48.36975585;-4.36022056
X-LOCATION-DISPLAYNAME:Avel Sport
X-ACCESS:1
X-HITS:444
X-COLOR:cf4540
X-SHOW-END-TIME:1
END:VEVENT
BEGIN:VEVENT
DTSTART;TZID=UTC:20250815T070000
DTEND;TZID=UTC:20250815T130000
UID:BE327F4C-630D-4F34-836B-5DDD2B6594E0
SUMMARY:Raid de Penguily
CREATED:20241206T074506Z
DTSTAMP:20241206T074506Z
URL:https://www.penguily-cdf.fr/15aout
DESCRIPTION:90km
X-ALT-DESC;FMTTYPE=text/html:<p>90km</p>
LAST-MODIFIED:20241206T074524Z
SEQUENCE:18
LOCATION:Rue de la Mairie\, 22510 Penguily\, Bretagne\, France
GEO:48.37192150;-2.49600060
X-LOCATION-DISPLAYNAME:Penguily
X-ACCESS:1
X-HITS:0
X-COLOR:cf4540
X-SHOW-END-TIME:1
END:VEVENT
BEGIN:VEVENT
DTSTART;TZID=UTC:20250913T070000
DTEND;TZID=UTC:20250914T180000
UID:A5B4A08F-68FD-42A5-B210-4022A72A1CF3
SUMMARY:Roch des monts d'Arrée
CREATED:20241206T074807Z
DTSTAMP:20241206T074807Z
URL:https://www.lesroch.org/
DESCRIPTION:After Movie 2024
X-ALT-DESC;FMTTYPE=text/html:<p><a href="https://www.youtube.com/watch?v=H-HyasD1qPc" target="_blank" rel="noopener">After Movie 2024</a></p>
LAST-MODIFIED:20241206T080711Z
SEQUENCE:1144
LOCATION:Place Aristide Briand\, 29690 Huelgoat\, Bretagne\, France
GEO:48.36403070;-3.74680340
X-LOCATION-DISPLAYNAME:Huelgoat
X-ACCESS:1
X-HITS:0
X-COLOR:cf4540
X-SHOW-END-TIME:1
END:VEVENT
BEGIN:VEVENT
DTSTART;TZID=UTC:20250920T070000
DTEND;TZID=UTC:20250921T190000
UID:C40C2882-D8B6-4E1D-8EF0-F412141FF2FE
SUMMARY:Transvolcanique
CREATED:20241206T075135Z
DTSTAMP:20241206T075135Z
URL:https://www.transvolcanique.com/
DESCRIPTION:2 x 85 km avec une à deux variantes longues
X-ALT-DESC;FMTTYPE=text/html:<p>2 x 85 km avec une à deux variantes longues<br /><br /><br /></p>
LAST-MODIFIED:20241206T075135Z
SEQUENCE:0
LOCATION:Rue de la Fontaine\, 63112 Blanzat\, Auvergne-Rhône-Alpes\, France
GEO:45.82503600;3.07472019
X-LOCATION-DISPLAYNAME:63112
X-ACCESS:1
X-HITS:0
X-COLOR:cf4540
X-SHOW-END-TIME:1
END:VEVENT
END:VCALENDAR