BEGIN:VCALENDAR
VERSION:2.0
PRODID:DPCALENDAR
CALSCALE:GREGORIAN
X-WR-TIMEZONE:UTC
BEGIN:VEVENT
DTSTART;TZID=UTC:20250216T063000
DTEND;TZID=UTC:20250216T120000
UID:E343C80C-7EB4-4E0B-917E-D236ACF1B2B9
SUMMARY:Gravel des abers
CREATED:20241206T075313Z
DTSTAMP:20241206T075313Z
URL:https://app.therunningcollective.fr/race/gravel-des-abers-2025
DESCRIPTION:35, 45, 60, 70 et 85 kmsDépart libre à partir de 6h30
X-ALT-DESC;FMTTYPE=text/html:<p>35, 45, 60, 70 et 85 kms<br />Départ libre à partir de 6h30</p>
LAST-MODIFIED:20241206T075704Z
SEQUENCE:231
LOCATION:Venelle du Stade\, 29860 Le Drennec\, Bretagne\, France
GEO:48.53473750;-4.37007320
X-LOCATION-DISPLAYNAME:Le Drennec
X-ACCESS:1
X-HITS:0
X-COLOR:3366cc
X-SHOW-END-TIME:1
END:VEVENT
BEGIN:VEVENT
DTSTART;TZID=UTC:20250426T080000
DTEND;TZID=UTC:20250504T163000
UID:7B5E4F79-6B64-45EA-ABF7-BB17FC6848CE
SUMMARY:GTB - Gravel Tro Breizh
CREATED:20241206T080403Z
DTSTAMP:20241206T080403Z
URL:https://erminig.cc/epreuves/la-gravel-tro-breizh/
DESCRIPTION:1300 km - 16000M de D+
X-ALT-DESC;FMTTYPE=text/html:<p>1300 km - 16000M de D+</p>
LAST-MODIFIED:20241206T080403Z
SEQUENCE:0
X-ACCESS:1
X-HITS:0
X-COLOR:3366cc
X-SHOW-END-TIME:1
END:VEVENT
BEGIN:VEVENT
DTSTART;TZID=UTC:20250517T080000
DTEND;TZID=UTC:20250517T190000
UID:9AB0D556-D1E3-409A-B5C6-13AE0ED6722C
SUMMARY:Le tour du bout du monde
CREATED:20241206T080542Z
DTSTAMP:20241206T080542Z
URL:https://letourduboutdumonde.fr/
DESCRIPTION:70 km\N 
X-ALT-DESC;FMTTYPE=text/html:<div dir="auto">70 km</div><p> </p>
LAST-MODIFIED:20241206T080542Z
SEQUENCE:0
LOCATION:Place André Le Gall\, 29520 Châteauneuf-du-Faou\, Bretagne\, France
GEO:48.18629850;-3.81285920
X-LOCATION-DISPLAYNAME:Châteauneuf-du-Faou
X-ACCESS:1
X-HITS:0
X-COLOR:3366cc
X-SHOW-END-TIME:1
END:VEVENT
BEGIN:VEVENT
DTSTART;TZID=UTC:20250705T080000
DTEND;TZID=UTC:20250705T090000
UID:D2D5F7E5-15B1-4BB9-88D3-D1A3FCB0D60B
SUMMARY:La gravel de l'Hôpital Camfrout
CREATED:20241206T080256Z
DTSTAMP:20241206T080256Z
URL:https://plougastelsportsnature.fr/index.php/features/agenda/la-gravel-de-lhopital-camfrout
LAST-MODIFIED:20241206T080256Z
SEQUENCE:0
LOCATION:Boulevard Pennec\, 29460 Hôpital-Camfrout\, Bretagne\, France
GEO:48.32142640;-4.23666290
X-LOCATION-DISPLAYNAME:Hôpital-Camfrout
X-ACCESS:1
X-HITS:386
X-COLOR:3366cc
X-SHOW-END-TIME:1
END:VEVENT
BEGIN:VEVENT
DTSTART;VALUE=DATE:20260329
DTEND;VALUE=DATE:20260330
UID:ED6F7807-3844-4C13-9CE3-D031B4D889C8
SUMMARY:Rando Gravel "Le tour des chapelles" annulée
CREATED:20221216T074621Z
DTSTAMP:20221216T074621Z
URL:https://plougastelsportsnature.fr/index.php/features/agenda/rando-gravel-le-tour-des-chapelles
DESCRIPTION:La Rando Gravel "Le tour des chapelles" sur Plougastel n'aura pas lieu en 2026 !
X-ALT-DESC;FMTTYPE=text/html:<p>La<strong> </strong>Rando Gravel "Le tour des chapelles"<strong> </strong>sur Plougastel <strong>n'aura pas lieu</strong> en 2026 !</p>
LAST-MODIFIED:20260113T082519Z
SEQUENCE:97115938
LOCATION:Le Vern\, 29470 Plougastel-Daoulas\, Bretagne\, France
GEO:48.36975585;-4.36022056
X-LOCATION-DISPLAYNAME:Avel Sport
X-ACCESS:1
X-HITS:610
X-COLOR:3366cc
X-SHOW-END-TIME:1
END:VEVENT
END:VCALENDAR