BEGIN:VCALENDAR
VERSION:2.0
PRODID:DPCALENDAR
CALSCALE:GREGORIAN
X-WR-TIMEZONE:UTC
BEGIN:VEVENT
DTSTART;TZID=UTC:20221202T180000
DTEND;TZID=UTC:20221202T210000
UID:907122D6-0833-4169-83C3-67063A345BC8
SUMMARY:AG 2023
CREATED:20221216T102746Z
DTSTAMP:20221216T102746Z
URL:https://plougastelsportsnature.fr/index.php/features/agenda/ag-2023
DESCRIPTION:Assemblée Générale de l'association Plougastel Sports Nature\N\NOrdre du jour :• Émargement de la liste des présents et vérification des mandats• Rapport moral présenté par le président• Rapport financier présenté par le trésorier• Discussions sur les projets pour l'année 2023• Renouvellement ou remplacement des membres sortants du conseil (les membres désirant présenter leur candidature pourront le faire le jour de l'Assemblée Générale)• Election du nouveau bureau\NLe compte rendu: Assemblée Générale du PSN 2022
X-ALT-DESC;FMTTYPE=text/html:<p>Assemblée Générale de l'association Plougastel Sports Nature</p><hr id="system-readmore"><p>Ordre du jour :<br />• Émargement de la liste des présents et vérification des mandats<br />• Rapport moral présenté par le président<br />• Rapport financier présenté par le trésorier<br />• Discussions sur les projets pour l'année 2023<br />• Renouvellement ou remplacement des membres sortants du conseil (les membres désirant présenter leur candidature pourront le faire le jour de l'Assemblée Générale)<br />• Election du nouveau bureau</p><p>Le compte rendu: <a href="index.php?option=com_content&amp;view=article&amp;id=34&amp;catid=13">Assemblée Générale du PSN 2022</a></p>
LAST-MODIFIED:20221221T130416Z
SEQUENCE:441390
LOCATION:Place Amédée Frézier\, 29470 Plougastel-Daoulas\, Bretagne\, France
GEO:48.37350555;-4.37048310
X-LOCATION-DISPLAYNAME:Espace Frézier
X-ACCESS:1
X-HITS:703
X-COLOR:e6ed07
X-IMAGE-INTRO:https://plougastelsportsnature.fr/images/articles/ag_2022.jpeg
X-SHOW-END-TIME:1
END:VEVENT
BEGIN:VEVENT
DTSTART;TZID=UTC:20230310T193000
DTEND;TZID=UTC:20230310T223000
UID:637EB059-52AF-490E-BC21-69BED2A62E7F
SUMMARY:Repas club avec conjoints(tes)
CREATED:20230111T125821Z
DTSTAMP:20230111T125821Z
URL:https://plougastelsportsnature.fr/index.php/features/agenda/repas-club-avec-epouses
DESCRIPTION:Le club organise un repas à La Rédac à Plougastel avec les adhérents et leurs épouses.\N\NLe repas des adhérents est pris en charge par le club. Le repas des conjoints(tes) reste à la charge du couple.\NLa Rédac est située à la ZAC Ty ar Menez à Plougastel\NMenu:\NUn apéro debout ou une bière\NEntrée:  Cassolette de la mer / Tartare de crevette\NPlat: \N\NCuisse de canette confite / Porcelet rôti\NGratin de pommes de terre légumes / Frites\N\NDessert: Café gourmand / Tarte fine café\NUne bouteille de vin pour quatre personnes
X-ALT-DESC;FMTTYPE=text/html:<p>Le club organise un repas à La Rédac à Plougastel avec les adhérents et leurs épouses.</p><hr id="system-readmore"><p>Le repas des adhérents est pris en charge par le club. Le repas des conjoints(tes) reste à la charge du couple.</p><p>La Rédac est située à la ZAC Ty ar Menez à Plougastel</p><p><strong>Menu:</strong></p><p><em>Un apéro debout ou une bière</em></p><p><em>Entrée:  Cassolette de la mer / Tartare de crevette</em></p><p><em>Plat: </em></p><ul><li><em>Cuisse de canette confite / Porcelet rôti</em></li><li><em>Gratin de pommes de terre légumes / Frites</em></li></ul><p><em>Dessert: Café gourmand / Tarte fine café</em></p><p><em>Une bouteille de vin pour quatre personnes</em></p>
LAST-MODIFIED:20230224T091340Z
SEQUENCE:3788119
LOCATION:Rue Alain Bombard 20\, 29470 Plougastel-Daoulas\, Bretagne\, France
GEO:48.38639720;-4.34884430
X-LOCATION-DISPLAYNAME:France, Bretagne, Finistère, Plougastel-Daoulas, 29470, Rue Alain Bombard, 20
X-ACCESS:1
X-HITS:828
X-COLOR:e6ed07
X-IMAGE-FULL:https://plougastelsportsnature.fr/images/articles/la_redac_plougastel.jpg
X-IMAGE-INTRO:https://plougastelsportsnature.fr/images/articles/la_redac_plougastel.jpg
X-SHOW-END-TIME:1
END:VEVENT
BEGIN:VEVENT
DTSTART;VALUE=DATE:20230429
DTEND;VALUE=DATE:20230501
UID:30544F85-CEFB-473E-9524-A24A2141C7D8
SUMMARY:Cap à l'Ouest
CREATED:20230111T104733Z
DTSTAMP:20230111T104733Z
URL:https://plougastelsportsnature.fr/index.php/features/agenda/cap-a-louest
DESCRIPTION:Le club organise (c'est surtout François qui organise !) un WE VTT multi-assos\NDeux jours de VTT et une soirée "cohésion" en gîte/camping (à définir) au milieu du WE\N\NL'objectif de cette sortie (au delà de la cohésion) sera d'amener tout le monde au bout du périple. Le mot d'ordre sera donc " tranquille". Un minimum de préparation sera cependant nécessaire pour boucler cette aventure...\NLe parcours est une nouvelle fois à la portée de tous ceux qui roulent régulièrement. Pour ceux dont la disponibilité est limitée, la possibilité sera bien sûr offerte de ne réaliser qu'une journée sur 2 (logistique à votre charge)\NAfin de mettre en place un organisation efficace, et de permettre de caler le site de la soirée du samedi un positionnement est impératif pour le 25 mars au plus tard, cela vous laisse *3 semaines* pour réfléchir et vous positionner.\NCette année, aucune inscription ne sera prise au-delà du 25 mars. Nous nous associerons une nouvelle fois avec l'équipe de Kersaint-Plabennec.\NNous proposerons un buffet réunissant vttiste et familles le dimanche soir sur Plougastel.\Nhttps://www.openrunner.com/route-details/15697700\Nhttps://www.openrunner.com/route-details/15697954\N \NCompte rendu de l'évènement en suivant ce lien
X-ALT-DESC;FMTTYPE=text/html:<p>Le club organise (c'est surtout François qui organise !) un WE VTT multi-assos</p><p>Deux jours de VTT et une soirée "cohésion" en gîte/camping (à définir) au milieu du WE</p><hr id="system-readmore"><p><br />L'objectif de cette sortie (au delà de la cohésion) sera d'amener tout le monde au bout du périple. Le mot d'ordre sera donc " tranquille". Un minimum de préparation sera cependant nécessaire pour boucler cette aventure...</p><p>Le parcours est une nouvelle fois à la portée de tous ceux qui roulent régulièrement. Pour ceux dont la disponibilité est limitée, la possibilité sera bien sûr offerte de ne réaliser qu'une journée sur 2 (logistique à votre charge)</p><p>Afin de mettre en place un organisation efficace, et de permettre de caler le site de la soirée du samedi un positionnement est impératif pour le 25 mars au plus tard, cela vous laisse *3 semaines* pour réfléchir et vous positionner.</p><p>Cette année, aucune inscription ne sera prise au-delà du 25 mars. Nous nous associerons une nouvelle fois avec l'équipe de Kersaint-Plabennec.</p><p>Nous proposerons un buffet réunissant vttiste et familles le dimanche soir sur Plougastel.</p><p>https://www.openrunner.com/route-details/15697700</p><p><a href="https://www.openrunner.com/route-details/15697954">https://www.openrunner.com/route-details/15697954</a></p><p> </p><p>Compte rendu de l'évènement en <a title="Cap à l'ouest" href="index.php/actualite/vie-du-club/cap-a-louest" target="_blank" rel="noopener">suivant ce lien</a></p>
LAST-MODIFIED:20230502T202550Z
SEQUENCE:9625097
LOCATION:Route de Saint-Mathieu\, 29217 Lochrist\, Bretagne\, France
GEO:48.34001700;-4.76394480
X-LOCATION-DISPLAYNAME:France, Bretagne, Finistère, Le Conquet, 29217
X-ACCESS:1
X-HITS:844
X-COLOR:e6ed07
X-IMAGE-FULL:https://plougastelsportsnature.fr/images/articles/cap_a_louest_2023.jpg
X-IMAGE-INTRO:https://plougastelsportsnature.fr/images/articles/cap_a_louest_2023.jpg
X-SHOW-END-TIME:1
END:VEVENT
BEGIN:VEVENT
DTSTART;VALUE=DATE:20230909
DTEND;VALUE=DATE:20230911
UID:BA1648BE-96B4-45D3-A325-C1D99BB0479C
SUMMARY:WE Club Roch des Monts d'Arrée
CREATED:20221216T074741Z
DTSTAMP:20221216T074741Z
URL:https://www.lesroch.org/programme/
DESCRIPTION:WE Club (VTT et Trail) lors du WE du Roch des Monts d'Arrée
X-ALT-DESC;FMTTYPE=text/html:<p>WE Club (VTT et Trail) lors du WE du Roch des Monts d'Arrée</p>
LAST-MODIFIED:20221217T093026Z
SEQUENCE:92565
LOCATION:Rue Jean Jaurès\, 29690 Huelgoat\, Bretagne\, France
GEO:48.35919315;-3.74423978
X-LOCATION-DISPLAYNAME:Roc'h des monts d'Arrée
X-ACCESS:1
X-HITS:14
X-COLOR:e6ed07
X-IMAGE-FULL:https://plougastelsportsnature.fr/images/articles/roch2023.jpg
X-IMAGE-INTRO:https://plougastelsportsnature.fr/images/articles/roch2023.jpg
X-SHOW-END-TIME:1
END:VEVENT
BEGIN:VEVENT
DTSTART;TZID=UTC:20231208T183000
DTEND;TZID=UTC:20231208T213000
UID:A4017DD5-3AEE-4631-8A63-5C5942519A1F
SUMMARY:Assemblée Générale du PSN
CREATED:20230922T164101Z
DTSTAMP:20230922T164101Z
URL:https://plougastelsportsnature.fr/index.php/features/agenda/assemblee-generale-du-psn
DESCRIPTION:L'assemblée générale du club sera l'occasion de faire un bilan sur les événements de la saison 2023, mais également de prendre des décisions pour la saison future.
X-ALT-DESC;FMTTYPE=text/html:<p>L'assemblée générale du club sera l'occasion de faire un bilan sur les événements de la saison 2023, mais également de prendre des décisions pour la saison future.</p>
LAST-MODIFIED:20231205T070548Z
SEQUENCE:6359087
LOCATION:Place Amédée Frézier\, 29470 Plougastel-Daoulas\, Bretagne\, France
GEO:48.37350555;-4.37048310
X-LOCATION-DISPLAYNAME:Espace Frézier
X-ACCESS:1
X-HITS:929
X-COLOR:e6ed07
X-IMAGE-INTRO:https://plougastelsportsnature.fr/images/articles/AG_PSN_2023.jpg
X-SHOW-END-TIME:1
END:VEVENT
BEGIN:VEVENT
DTSTART;TZID=UTC:20231209T100000
DTEND;TZID=UTC:20231209T160000
UID:8C2BEB01-F01F-4327-9900-5B802BE9D4EF
SUMMARY:Nettoyage des chemins à Plougastel
CREATED:20231208T134516Z
DTSTAMP:20231208T134516Z
URL:https://plougastelsportsnature.fr/index.php/features/agenda/nettoyage-des-chemins-a-plougastel
DESCRIPTION:Le Club propose à ses adhérents de nettoyer, conjointement avec le REDEG, quelques chemins de notre presqu'île le samedi 9 décembre de 10h à 16h.\NLe RDV est donné à 10h au local et un pique-nique est prévu tous ensemble le midi.\NToutes les infos ici
X-ALT-DESC;FMTTYPE=text/html:<div>Le Club propose à ses adhérents de nettoyer, conjointement avec le <a href="https://www.redegeplougastell.fr/" target="_blank" rel="noopener">REDEG</a>, quelques chemins de notre presqu'île le samedi 9 décembre de 10h à 16h.</div><div>Le RDV est donné à 10h au local et un pique-nique est prévu tous ensemble le midi.</div><div>Toutes les infos <a href="index.php/actualite/vie-du-club/nettoyage-des-chemins-de-plougastel-avec-le-redeg" target="_blank" rel="noopener">ici</a></div>
LAST-MODIFIED:20231208T134544Z
SEQUENCE:28
LOCATION:Rue Mathurin Thomas 48\, 29470 Plougastel-Daoulas\, Bretagne\, France
GEO:48.37078120;-4.36980190
X-LOCATION-DISPLAYNAME:Club House
X-ACCESS:1
X-HITS:753
X-COLOR:e6ed07
X-IMAGE-INTRO:https://plougastelsportsnature.fr/images/articles/nettoyage_chemins.jpg
X-SHOW-END-TIME:1
END:VEVENT
BEGIN:VEVENT
DTSTART;TZID=UTC:20240116T200000
DTEND;TZID=UTC:20240116T210000
UID:85945A89-7745-4599-B701-3BEC211348DD
SUMMARY:Galette 2024
CREATED:20240106T085409Z
DTSTAMP:20240106T085409Z
URL:https://plougastelsportsnature.fr/index.php/features/agenda/galette-2024
DESCRIPTION:Le PSN invite ses licenciés à sa traditionnelle galette des rois le mardi 16 mai à 20h au local du club.\N\N\N\NLors de ce moment convivial, nous ferons appel aux bonnes volontés pour la création d'une commission "Rando VTT&Gravel" qui, aidée du bureau, sera chargée d'organiser la troisième édition de cette animation qui aura lieu le dimanche 31 mars.\N \N\N\N
X-ALT-DESC;FMTTYPE=text/html:<p>Le PSN invite ses licenciés à sa traditionnelle <b>galette des rois le mardi 16 mai à 20h</b> au <a href="https://plougastelsportsnature.fr/index.php/features/nous-contacter" target="_blank" rel="noopener" data-saferedirecturl="https://www.google.com/url?q=https://plougastelsportsnature.fr/index.php/features/nous-contacter&amp;source=gmail&amp;ust=1704614062725000&amp;usg=AOvVaw1-9Kp0gArypT4s_k_TSHaF">local du club</a>.</p><div><div class="gmail_signature" dir="ltr" data-smartmail="gmail_signature"><div dir="ltr"><div>Lors de ce moment convivial, nous ferons appel aux bonnes volontés pour la <b>création d'une commission "Rando VTT&amp;Gravel" </b>qui, aidée du bureau, sera chargée d'organiser la troisième édition de cette animation qui aura lieu le dimanche 31 mars.</div><div> </div></div></div></div>
LOCATION:Rue Mathurin Thomas 48\, 29470 Plougastel-Daoulas\, Bretagne\, France
GEO:48.37078120;-4.36980190
X-LOCATION-DISPLAYNAME:Club House
X-ACCESS:1
X-HITS:821
X-COLOR:e6ed07
X-IMAGE-INTRO:https://plougastelsportsnature.fr/images/articles/galette_2023.jpg
X-SHOW-END-TIME:1
END:VEVENT
BEGIN:VEVENT
DTSTART;TZID=UTC:20241018T193000
DTEND;TZID=UTC:20241018T223000
UID:D072D830-72D4-4AC8-8E58-4D5EABA67AE0
SUMMARY:Repas club avec conjoints(tes)
CREATED:20230111T125821Z
DTSTAMP:20230111T125821Z
URL:https://plougastelsportsnature.fr/index.php/features/agenda/repas-club-avec-epouses-2
DESCRIPTION:Le club organise un repas à La Rédac à Plougastel avec les adhérents et leurs épouses.\N\NLe repas des adhérents est pris en charge par le club. Le repas des conjoints(tes) reste à la charge du couple.\NLa Rédac est située à la ZAC Ty ar Menez à Plougastel\NMenu :\NApéros au choix, bière lav Rédac, kir vin blanc, verre de vin (rosé, rouge…)\NEntrée :\N\NBurrata sur carpaccio de tomates anciennes sauce pesto\NOu Gauffre au saumon fumé sauce à l’aneth\N\NPlat :\N\NJambon de porcelet roti, gratin de pomme de terre aux truffes\NOu Bœuf à la bière\N\NDessert :\N\NPavlova aux fraises de Plougastel\NOu Café gourmand\N\NCafé ou thé\N1 bouteilles de vin pour 6 (au choix entre rosé et rouge)
X-ALT-DESC;FMTTYPE=text/html:<p>Le club organise un repas à La Rédac à Plougastel avec les adhérents et leurs épouses.</p><hr id="system-readmore"><p>Le repas des adhérents est pris en charge par le club. Le repas des conjoints(tes) reste à la charge du couple.</p><p>La Rédac est située à la ZAC Ty ar Menez à Plougastel</p><p><strong>Menu :</strong></p><p>Apéros au choix, bière lav Rédac, kir vin blanc, verre de vin (rosé, rouge…)</p><p>Entrée :</p><ul><li>Burrata sur carpaccio de tomates anciennes sauce pesto</li><li>Ou Gauffre au saumon fumé sauce à l’aneth</li></ul><p>Plat :</p><ul><li>Jambon de porcelet roti, gratin de pomme de terre aux truffes</li><li>Ou Bœuf à la bière</li></ul><p>Dessert :</p><ul><li>Pavlova aux fraises de Plougastel</li><li>Ou Café gourmand</li></ul><p>Café ou thé</p><p>1 bouteilles de vin pour 6 (au choix entre rosé et rouge)</p>
LAST-MODIFIED:20240723T094643Z
SEQUENCE:48286102
LOCATION:Rue Alain Bombard 20\, 29470 Plougastel-Daoulas\, Bretagne\, France
GEO:48.38639720;-4.34884430
X-LOCATION-DISPLAYNAME:France, Bretagne, Finistère, Plougastel-Daoulas, 29470, Rue Alain Bombard, 20
X-ACCESS:1
X-HITS:857
X-COLOR:e6ed07
X-IMAGE-FULL:https://plougastelsportsnature.fr/images/articles/la_redac_plougastel.jpg
X-IMAGE-INTRO:https://plougastelsportsnature.fr/images/articles/la_redac_plougastel.jpg
X-SHOW-END-TIME:1
END:VEVENT
BEGIN:VEVENT
DTSTART;TZID=UTC:20241129T183000
DTEND;TZID=UTC:20241129T213000
UID:25BE0274-B428-4FF5-9869-898661B17825
SUMMARY:Assemblée Générale du PSN
CREATED:20240615T164101Z
DTSTAMP:20240615T164101Z
URL:https://plougastelsportsnature.fr/index.php/features/agenda/assemblee-generale-du-psn-2
DESCRIPTION:L'assemblée générale du club sera l'occasion de faire un bilan sur les événements de la saison 2024, mais également de prendre des décisions pour la saison future.
X-ALT-DESC;FMTTYPE=text/html:<p>L'assemblée générale du club sera l'occasion de faire un bilan sur les événements de la saison 2024, mais également de prendre des décisions pour la saison future.</p>
LAST-MODIFIED:20240615T133752Z
SEQUENCE:-10989
LOCATION:Place Amédée Frézier\, 29470 Plougastel-Daoulas\, Bretagne\, France
GEO:48.37350555;-4.37048310
X-LOCATION-DISPLAYNAME:Espace Frézier
X-ACCESS:1
X-HITS:893
X-COLOR:e6ed07
X-IMAGE-INTRO:https://plougastelsportsnature.fr/images/articles/AG_PSN_2023.jpg
X-SHOW-END-TIME:1
END:VEVENT
BEGIN:VEVENT
DTSTART;TZID=UTC:20251212T183000
DTEND;TZID=UTC:20251212T213000
UID:7925F72F-D171-475A-BD43-3D0DCE2579CC
SUMMARY:Assemblée Générale du PSN
CREATED:20240615T164101Z
DTSTAMP:20240615T164101Z
URL:https://plougastelsportsnature.fr/index.php/features/agenda/assemblee-generale-du-psn-3
DESCRIPTION:L'assemblée générale du club sera l'occasion de faire un bilan sur les événements de la saison 2025, mais également de prendre des décisions pour la saison future.\NA l'ordre du jour:\N\NÉmargement de la liste des présents et vérification des mandats par le secrétaire\NRapport moral présenté par le président et rapport financier présenté par le trésorier\NRecueil des propositions des adhérents sur les projets VTT et Trail pour l’année 2026\NTemps d’échange avec les adhérents sur le fonctionnement et les activités du club\NRenouvellement ou remplacement des membres sortants du Conseil d’Administration\NÉlection du nouveau CA et du bureau\N
X-ALT-DESC;FMTTYPE=text/html:<p>L'assemblée générale du club sera l'occasion de faire un bilan sur les événements de la saison 2025, mais également de prendre des décisions pour la saison future.</p><p>A l'ordre du jour:</p><ul><li style="font-weight: 400;" aria-level="1"><span style="font-weight: 400;">Émargement de la liste des présents et vérification des mandats par le secrétaire</span></li><li style="font-weight: 400;" aria-level="1"><span style="font-weight: 400;">Rapport moral présenté par le président et rapport financier présenté par le trésorier</span></li><li style="font-weight: 400;" aria-level="1"><span style="font-weight: 400;">Recueil des propositions des adhérents sur les projets VTT et Trail pour l’année 2026</span></li><li style="font-weight: 400;" aria-level="1"><span style="font-weight: 400;">Temps d’échange avec les adhérents sur le fonctionnement et les activités du club</span></li><li style="font-weight: 400;" aria-level="1"><span style="font-weight: 400;">Renouvellement ou remplacement des membres sortants du Conseil d’Administration</span></li><li style="font-weight: 400;" aria-level="1"><span style="font-weight: 400;">Élection du nouveau CA et du bureau</span></li></ul>
LAST-MODIFIED:20251126T142450Z
SEQUENCE:45697429
LOCATION:Place Amédée Frézier\, 29470 Plougastel-Daoulas\, Bretagne\, France
GEO:48.37350555;-4.37048310
X-LOCATION-DISPLAYNAME:Espace Frézier
X-ACCESS:1
X-HITS:1205
X-COLOR:e6ed07
X-IMAGE-INTRO:https://plougastelsportsnature.fr/images/articles/AG_PSN_2023.jpg
X-SHOW-END-TIME:1
END:VEVENT
BEGIN:VEVENT
DTSTART;TZID=UTC:20260111T113000
DTEND;TZID=UTC:20260111T123000
UID:D06E9873-F901-4B9B-8871-24410439414E
SUMMARY:Gravel & VTT pour tous - Animation Galette
CREATED:20240106T085409Z
DTSTAMP:20240106T085409Z
URL:https://plougastelsportsnature.fr/index.php/features/agenda/galette-2026
DESCRIPTION:PlougastelSportsNature organise pour tous les Plougastels (licenciés ou non), dimanche matin 11 janvier, une sortie Gravel ainsi qu'une sortie VTT🚴\N \NNous avons le plaisir de convier tous les amateurs de deux roues de Plougastel pour ces sorties encadrées qui se veulent conviviales.\N🥂 A l'issue, une animation réconfort "galette des rois" sera proposée à tous les participants. 🥮\N💢 RDV parking de la Salle Jean Joseph Le Gall (48 Rue Mathurin Thomas, 29470 Plougastel-Daoulas), à 09h00.\N❓ Pour plus d'infos, posez vos questions ici ❓\N\N\N\N \N\N\N
X-ALT-DESC;FMTTYPE=text/html:<div><a href="https://www.plougastelsportsnature.fr/" target="_blank" rel="noopener" data-saferedirecturl="https://www.google.com/url?q=https://www.plougastelsportsnature.fr/&amp;source=gmail&amp;ust=1766474980077000&amp;usg=AOvVaw0ZD1s8eVp5bnAbmku3-iX-">PlougastelSportsNature</a> <wbr />organise pour tous les Plougastels (licenciés ou non), dimanche matin 11 janvier, une sortie Gravel ainsi qu'une sortie VTT🚴</div><div> </div><div>Nous avons le plaisir de convier <strong>tous les amateurs de deux roues de Plougastel</strong> pour ces sorties encadrées qui se veulent conviviales.</div><div>🥂 A l'issue, une <strong>animation réconfort "galette des rois"</strong> sera proposée à tous les participants. 🥮</div><p>💢 RDV parking de la Salle Jean Joseph Le Gall (48 Rue Mathurin Thomas, 29470 Plougastel-Daoulas), à 09h00.</p><p>❓ Pour plus d'infos, posez vos <a href="index.php/features/nous-contacter" target="_blank" rel="noopener">questions ici ❓</a></p><div><div class="gmail_signature" dir="ltr" data-smartmail="gmail_signature"><div dir="ltr"><div> </div></div></div></div>
LAST-MODIFIED:20251222T202409Z
SEQUENCE:61903800
LOCATION:Rue Mathurin Thomas 48\, 29470 Plougastel-Daoulas\, Bretagne\, France
GEO:48.37078120;-4.36980190
X-LOCATION-DISPLAYNAME:Club House
X-ACCESS:1
X-HITS:635
X-COLOR:e6ed07
X-IMAGE-FULL:https://plougastelsportsnature.fr/images/articles/galette_2023.jpg
X-IMAGE-INTRO:https://plougastelsportsnature.fr/images/articles/galette_2023.jpg
X-SHOW-END-TIME:1
END:VEVENT
BEGIN:VEVENT
DTSTART;TZID=UTC:20260123T193000
DTEND;TZID=UTC:20260123T223000
UID:8CE62B04-3A1E-4E5B-A475-F4EF9833D27F
SUMMARY:Repas club avec conjoints(tes)
CREATED:20251217T125821Z
DTSTAMP:20251217T125821Z
URL:https://plougastelsportsnature.fr/index.php/features/agenda/repas-club-avec-epouses-3
DESCRIPTION:Le club organise un repas au café Le Keralcun avec les adhérents et leurs épouses.\N\NLe repas des adhérents est pris en charge par le club. Le repas des conjoints(tes) reste à la charge du couple.\NMenu :\NKig Ha Farz et vacherin\NLieu : \NLieu-dit, 105 route de Lizornig, 29470 Plougastel-Daoulas
X-ALT-DESC;FMTTYPE=text/html:<p>Le club organise un repas au café Le Keralcun avec les adhérents et leurs épouses.</p><hr id="system-readmore"><p>Le repas des adhérents est pris en charge par le club. Le repas des conjoints(tes) reste à la charge du couple.</p><p><strong>Menu :</strong></p><p>Kig Ha Farz et vacherin</p><p><strong>Lieu : </strong></p><p>Lieu-dit, 105 route de Lizornig, 29470 Plougastel-Daoulas</p>
LAST-MODIFIED:20251218T074325Z
SEQUENCE:67504
X-ACCESS:1
X-HITS:572
X-COLOR:e6ed07
X-IMAGE-FULL:https://plougastelsportsnature.fr/images/articles/keralcun.png
X-IMAGE-INTRO:https://plougastelsportsnature.fr/images/articles/keralcun.png
X-SHOW-END-TIME:1
END:VEVENT
BEGIN:VEVENT
DTSTART;TZID=UTC:20260208T090000
DTEND;TZID=UTC:20260208T120000
UID:59B64042-4387-4B4D-955B-605CE0515664
SUMMARY:A la chandeleur, fais toi peur !
CREATED:20260113T082412Z
DTSTAMP:20260113T082412Z
URL:https://www.plougastelsportsnature.fr/index.php/actualite/vie-du-club/a-la-chandeleur-fais-toi-peur
DESCRIPTION:\NRDV dimanche matin 08 février pour une sortie mixte Gravel&VTT à laquelle sont conviés tous les adultes de Plougastel amateurs de deux roues musculaires et électriques. A l'issue de cette balade conviviale, une animation réconfort "chandeleur" sera proposée à tous les participants.\N
X-ALT-DESC;FMTTYPE=text/html:<div><div>RDV dimanche matin 08 février pour une sortie mixte Gravel&amp;VTT à laquelle sont conviés tous les adultes de Plougastel amateurs de deux roues musculaires et électriques. A l'issue de cette balade conviviale, une animation réconfort "chandeleur" sera proposée à tous les participants.</div></div>
LAST-MODIFIED:20260113T082412Z
SEQUENCE:0
LOCATION:Rue Mathurin Thomas 48\, 29470 Plougastel-Daoulas\, Bretagne\, France
GEO:48.37078120;-4.36980190
X-LOCATION-DISPLAYNAME:Club House
X-ACCESS:1
X-HITS:0
X-COLOR:e6ed07
X-SHOW-END-TIME:1
END:VEVENT
BEGIN:VEVENT
DTSTART;TZID=UTC:20260906T090000
DTEND;TZID=UTC:20260906T130000
UID:BEB263F2-6422-41E7-BC37-6F0C9DBEC43B
SUMMARY:Forum des associations Plougastel
CREATED:20260117T080648Z
DTSTAMP:20260117T080648Z
URL:https://plougastelsportsnature.fr/index.php/features/agenda/forum-des-associations-plougastel
DESCRIPTION:Le Forum des associations 2026 se déroulera le dimanche 6 septembre, à l’Espace Avel vor, de 9h à 13h. (date à confirmer par la mairie)\NLe PSN sera présent pour exposer ses activités, répondre aux questions et donner envie d'intégrer un club sportif, dynamique et convivial !
X-ALT-DESC;FMTTYPE=text/html:<p>Le Forum des associations 2026 se déroulera le <strong>dimanche 6 septembre, à l’Espace Avel vor, de 9h à 13h. </strong>(date à confirmer par la mairie)</p><p>Le PSN sera présent pour exposer ses activités, répondre aux questions et donner envie d'intégrer un club sportif, dynamique et convivial !</p>
LAST-MODIFIED:20260117T082158Z
SEQUENCE:910
LOCATION:Route Santik Beneat\, 29470 Plougastel-Daoulas\, Bretagne\, France
GEO:48.37104050;-4.36173550
X-LOCATION-DISPLAYNAME:Espace Avel Vor
X-ACCESS:1
X-HITS:570
X-COLOR:e6ed07
X-IMAGE-FULL:https://plougastelsportsnature.fr/images/articles/forum_assos_2026.png
X-IMAGE-INTRO:https://plougastelsportsnature.fr/images/articles/forum_assos_2026.png
X-SHOW-END-TIME:1
END:VEVENT
END:VCALENDAR